BEGIN:VCALENDAR
VERSION:2.0
PRODID:-//Sabre//Sabre VObject 4.5.8//EN
CALSCALE:GREGORIAN
BEGIN:VTIMEZONE
TZID:Europe/Zurich
X-LIC-LOCATION:Europe/Zurich
TZURL:http://tzurl.org/zoneinfo/Europe/Zurich
BEGIN:DAYLIGHT
TZOFFSETFROM:+0100
TZOFFSETTO:+0200
TZNAME:CEST
DTSTART:19810329T020000
RRULE:FREQ=YEARLY;BYMONTH=3;BYDAY=-1SU
END:DAYLIGHT
BEGIN:STANDARD
TZOFFSETFROM:+0200
TZOFFSETTO:+0100
TZNAME:CET
DTSTART:19961027T030000
RRULE:FREQ=YEARLY;BYMONTH=10;BYDAY=-1SU
END:STANDARD
END:VTIMEZONE
BEGIN:VEVENT
UID:news931@ius.unibas.ch
DTSTAMP;TZID=Europe/Zurich:20260416T152458
DTSTART;TZID=Europe/Zurich:20260505T161500
SUMMARY:Strafverfolgung mithilfe Künstlicher Intelligenz - ginge das?
DESCRIPTION:Am 5. Mai 2026\, 16:15-17:15 Uhr\, hält Prof. Dr. Sabine Gless
  am Institut für Rechtsmedizin der Universität Basel einen Vortrag zum T
 hema «Strafverfolgung mithilfe Künstlicher Intelligenz - ginge das?». D
 er Vortrag wirft einen Blick auf aktuelle Entwicklungen und diskutiert Cha
 ncen und Risiken des KI-Einsatzes in verschiedenen Phasen des Strafverfahr
 ens aus der Perspektive des Rechts. Der Vortrag findet in der Bibliothek d
 es IRM statt und dauert ca. 45-50 Minuten mit anschliessender Fragerunde. 
 Die Teilnahme ist kostenlos und erfordert keine Anmeldung. 
X-ALT-DESC:<p>Am 5. Mai 2026\, 16:15-17:15 Uhr\, hält Prof. Dr. Sabine Gle
 ss am Institut für Rechtsmedizin der Universität Basel einen Vortrag zum
  Thema «Strafverfolgung mithilfe Künstlicher Intelligenz - ginge das?».
  Der Vortrag wirft einen Blick auf aktuelle Entwicklungen und diskutiert C
 hancen und Risiken des KI-Einsatzes in verschiedenen Phasen des Strafverfa
 hrens aus der Perspektive des Rechts. Der Vortrag findet in der Bibliothek
  des IRM statt und dauert ca. 45-50 Minuten mit anschliessender Fragerunde
 . Die Teilnahme ist kostenlos und erfordert keine Anmeldung.&nbsp\;</p>
DTEND;TZID=Europe/Zurich:20260505T171500
END:VEVENT
END:VCALENDAR
